BEGIN:VCALENDAR
VERSION:2.0
PRODID:-//ChamberMaster//Event Calendar 2.0//EN
METHOD:PUBLISH
X-PUBLISHED-TTL:P3D
REFRESH-INTERVAL:P3D
CALSCALE:GREGORIAN
BEGIN:VEVENT
DTSTART:20190820T150000Z
DTEND:20190820T153000Z
X-MICROSOFT-CDO-ALLDAYEVENT:FALSE
SUMMARY:Ribbon Cutting for Canela\, Inc
DESCRIPTION:Join us for a Ribbon Cutting celebrating one of our newest Chamber members- Canela!\n\n\n\n#TeamChamber
X-ALT-DESC;FMTTYPE=text/html:Join us for a Ribbon Cutting celebrating one of our newest Chamber members- Canela!<br />\n<br />\n#TeamChamber
LOCATION:612 3rd Ave SE (Rose's Shopping Center)
UID:e.570.9588
SEQUENCE:3
DTSTAMP:20260425T115810Z
URL:http://business.moultriechamber.com/events/details/ribbon-cutting-for-canela-inc-9588
END:VEVENT

END:VCALENDAR
