BEGIN:VCALENDAR
VERSION:2.0
PRODID:-//ChamberMaster//Event Calendar 2.0//EN
METHOD:PUBLISH
X-PUBLISHED-TTL:P3D
REFRESH-INTERVAL:P3D
CALSCALE:GREGORIAN
BEGIN:VEVENT
DTSTART:20190808T153000Z
DTEND:20190808T160000Z
X-MICROSOFT-CDO-ALLDAYEVENT:FALSE
SUMMARY:Ribbon Cutting for Betty Koukis PC
DESCRIPTION:Join us in celebrating Betty Koukis PC as one of our newest Chamber members!\n\n\n\n#TeamChamber
X-ALT-DESC;FMTTYPE=text/html:Join us in celebrating Betty Koukis PC as one of our newest Chamber members!<br />\n<br />\n#TeamChamber
LOCATION:207 31st Ave SE\, Moultrie
UID:e.570.9590
SEQUENCE:3
DTSTAMP:20260425T114524Z
URL:http://business.moultriechamber.com/events/details/ribbon-cutting-for-betty-koukis-pc-9590
END:VEVENT

END:VCALENDAR
