BEGIN:VCALENDAR
VERSION:2.0
PRODID:-//ChamberMaster//Event Calendar 2.0//EN
METHOD:PUBLISH
X-PUBLISHED-TTL:P3D
REFRESH-INTERVAL:P3D
CALSCALE:GREGORIAN
BEGIN:VEVENT
DTSTART:20180821T143000Z
DTEND:20180821T150000Z
X-MICROSOFT-CDO-ALLDAYEVENT:FALSE
SUMMARY:Ribbon Cutting for Ace Technologies
DESCRIPTION:Join us in celebrating Ace Technologies during their ribbon cutting ceremony!
X-ALT-DESC;FMTTYPE=text/html:Join us in celebrating Ace Technologies during their ribbon cutting ceremony!
LOCATION:Moultrie Chamber\, 116 1st Avenue SE\, Moultrie\, GA
UID:e.570.9346
SEQUENCE:3
DTSTAMP:20260426T042008Z
URL:http://business.moultriechamber.com/events/details/ribbon-cutting-for-ace-technologies-9346
END:VEVENT

END:VCALENDAR
