BEGIN:VCALENDAR
VERSION:2.0
PRODID:-//ChamberMaster//Event Calendar 2.0//EN
METHOD:PUBLISH
X-PUBLISHED-TTL:P3D
REFRESH-INTERVAL:P3D
CALSCALE:GREGORIAN
BEGIN:VEVENT
DTSTART:20240501T130000Z
DTEND:20240502T013000Z
X-MICROSOFT-CDO-ALLDAYEVENT:FALSE
SUMMARY:Ribbon Cutting - 319 South
DESCRIPTION:Join us for a ribbon cutting for 319 South!
X-ALT-DESC;FMTTYPE=text/html:Join us for a ribbon cutting for 319 South!&nbsp\;
LOCATION:319 South 4750 US-319\, Norman Park\, GA 31771
UID:e.570.13262
SEQUENCE:3
DTSTAMP:20260422T130305Z
URL:http://business.moultriechamber.com/events/details/ribbon-cutting-319-south-13262
END:VEVENT

END:VCALENDAR
