BEGIN:VCALENDAR
VERSION:2.0
PRODID:-//ChamberMaster//Event Calendar 2.0//EN
METHOD:PUBLISH
X-PUBLISHED-TTL:P3D
REFRESH-INTERVAL:P3D
CALSCALE:GREGORIAN
BEGIN:VEVENT
DTSTART:20200216T003000Z
DTEND:20200216T023000Z
X-MICROSOFT-CDO-ALLDAYEVENT:FALSE
SUMMARY:Remembering Patsy Cline
DESCRIPTION:David Hawkins and Just Passing Through band will entertain with Bluegrass and Gospel and then welcome Meg Kennedy Bishops singing Patsy Cline to the stage.
X-ALT-DESC;FMTTYPE=text/html:David Hawkins and Just Passing Through band will entertain with Bluegrass and Gospel and then welcome Meg Kennedy Bishops singing Patsy Cline to the stage.
LOCATION:Colquitt County Arts Center
UID:e.570.11131
SEQUENCE:3
DTSTAMP:20260425T040244Z
URL:http://business.moultriechamber.com/events/details/remembering-patsy-cline-11131
END:VEVENT

END:VCALENDAR
