BEGIN:VCALENDAR
VERSION:2.0
PRODID:-//ChamberMaster//Event Calendar 2.0//EN
METHOD:PUBLISH
X-PUBLISHED-TTL:P3D
REFRESH-INTERVAL:P3D
CALSCALE:GREGORIAN
BEGIN:VEVENT
DTSTART:20200216T193000Z
DTEND:20200216T213000Z
X-MICROSOFT-CDO-ALLDAYEVENT:FALSE
SUMMARY:Remembering Patsy Cline
DESCRIPTION:David Hawkins and Just Passing Through band will entertain with Bluegrass and Gospel then welcome Meg Kennedy Bishop to the stage singing Patsy Cline.
X-ALT-DESC;FMTTYPE=text/html:David Hawkins and Just Passing Through band will entertain with Bluegrass and Gospel then welcome Meg Kennedy Bishop to the stage singing Patsy Cline.
LOCATION:Colquitt County Arts Center
UID:e.570.11132
SEQUENCE:3
DTSTAMP:20260425T035707Z
URL:http://business.moultriechamber.com/events/details/remembering-patsy-cline-02-16-2020-11132
END:VEVENT

END:VCALENDAR
