BEGIN:VCALENDAR
VERSION:2.0
PRODID:-//ChamberMaster//Event Calendar 2.0//EN
METHOD:PUBLISH
X-PUBLISHED-TTL:P3D
REFRESH-INTERVAL:P3D
CALSCALE:GREGORIAN
BEGIN:VEVENT
DTSTART:20220423T130000Z
DTEND:20220423T143000Z
X-MICROSOFT-CDO-ALLDAYEVENT:FALSE
SUMMARY:Relay For Life Survivor Breakfast
DESCRIPTION:
X-ALT-DESC;FMTTYPE=text/html:
LOCATION:Fellowship Hall Moultrie First United Methodist Church
UID:e.570.12021
SEQUENCE:3
DTSTAMP:20260423T204707Z
URL:http://business.moultriechamber.com/events/details/relay-for-life-survivor-breakfast-12021
END:VEVENT

END:VCALENDAR
