BEGIN:VCALENDAR
VERSION:2.0
PRODID:-//ChamberMaster//Event Calendar 2.0//EN
METHOD:PUBLISH
X-PUBLISHED-TTL:P3D
REFRESH-INTERVAL:P3D
CALSCALE:GREGORIAN
BEGIN:VEVENT
DTSTART:20220429T220000Z
DTEND:20220430T020000Z
X-MICROSOFT-CDO-ALLDAYEVENT:FALSE
SUMMARY:Relay For Life of Colquitt County/Carnival For A Cure
DESCRIPTION:"Come One\, Come All" to the Carnival For A Cure! Everyone of us has been touched by cancer in some way. Friends\, relatives\, caregivers\, survivors   we all use our special passion to help the American Cancer Society save lives\, celebrate lives and lead the fight for a world without cancer.
X-ALT-DESC;FMTTYPE=text/html:&ldquo\;Come One\, Come All&rdquo\; to the Carnival For A Cure! Everyone of us has been touched by cancer in some way. Friends\, relatives\, caregivers\, survivors &ndash\; we all use our special passion to help the American Cancer Society save lives\, celebrate lives and lead the fight for a world without cancer.
LOCATION:350 N Veterans Parkway In Front of Ag Building
UID:e.570.12022
SEQUENCE:3
DTSTAMP:20260423T194644Z
URL:http://business.moultriechamber.com/events/details/relay-for-life-of-colquitt-county-carnival-for-a-cure-12022
END:VEVENT

END:VCALENDAR
