BEGIN:VCALENDAR
VERSION:2.0
PRODID:-//ChamberMaster//Event Calendar 2.0//EN
METHOD:PUBLISH
X-PUBLISHED-TTL:P3D
REFRESH-INTERVAL:P3D
CALSCALE:GREGORIAN
BEGIN:VEVENT
DTSTART:20190426T220000Z
DTEND:20190427T020000Z
X-MICROSOFT-CDO-ALLDAYEVENT:FALSE
SUMMARY:Relay For Life Of Colquitt County
DESCRIPTION:Celebrate Survivors & Support The Fight! Theme: Cancer: Not Here\, Not There\, Not Anywhere! Opening Ceremony begins at 6:00 p.m. Luminary Ceremony @ 9:00 p.m.
X-ALT-DESC;FMTTYPE=text/html:Celebrate Survivors &amp\; Support The Fight! Theme: Cancer: Not Here\, Not There\, Not Anywhere! Opening Ceremony begins at 6:00 p.m. Luminary Ceremony @ 9:00 p.m.
LOCATION:Colquitt County Ag Complex Behind Building 1 Old Fairgrounds 305 N. Veterans Pkwy.
UID:e.570.9544
SEQUENCE:3
DTSTAMP:20260425T165153Z
URL:http://business.moultriechamber.com/events/details/relay-for-life-of-colquitt-county-9544
END:VEVENT

END:VCALENDAR
