BEGIN:VCALENDAR
VERSION:2.0
PRODID:-//ChamberMaster//Event Calendar 2.0//EN
METHOD:PUBLISH
X-PUBLISHED-TTL:P3D
REFRESH-INTERVAL:P3D
CALSCALE:GREGORIAN
BEGIN:VEVENT
DTSTART:20210320T130000Z
DTEND:20210321T160000Z
X-MICROSOFT-CDO-ALLDAYEVENT:FALSE
SUMMARY:Red Cross Lifeguard Certification Class
DESCRIPTION:The purpose of the Lifeguarding program is to train lifeguards to act with speed and confidence in emergency situations both in and out of the water. Topics include water rescue skills\, surveillance and recognition\, first aid\, breathing and cardiac emergencies\, CPR\, AED\, and more. Courses within the Lifeguarding Program include Lifeguarding (for facilities with pool depths greater than 7 feet)\, Shallow Water Lifeguarding (for facilities with pool depths less than or equal to 5 feet)\, and Aquatic Attraction Lifeguarding (for facilities with aquatic attractions and pool depths less than or equal to 3 feet). Lifeguarding courses are available in both the traditional\, instructor led delivery as well as blended learning delivery\, which combines eLearning with in-person skills practice.
X-ALT-DESC;FMTTYPE=text/html:The purpose of the Lifeguarding program is to train lifeguards to act with speed and confidence in emergency situations both in and out of the water. Topics include water rescue skills\, surveillance and recognition\, first aid\, breathing and cardiac emergencies\, CPR\, AED\, and more. Courses within the Lifeguarding Program include Lifeguarding (for facilities with pool depths greater than 7 feet)\, Shallow Water Lifeguarding (for facilities with pool depths less than or equal to 5 feet)\, and Aquatic Attraction Lifeguarding (for facilities with aquatic attractions and pool depths less than or equal to 3 feet). Lifeguarding courses are available in both the traditional\, instructor led delivery as well as blended learning delivery\, which combines eLearning with in-person skills practice.
LOCATION:SW Competition Pool 1101 5th St SW
UID:e.570.11301
SEQUENCE:3
DTSTAMP:20260424T113221Z
URL:http://business.moultriechamber.com/events/details/red-cross-lifeguard-certification-class-03-20-2021-11301
END:VEVENT

END:VCALENDAR
