BEGIN:VCALENDAR
VERSION:2.0
PRODID:-//ChamberMaster//Event Calendar 2.0//EN
METHOD:PUBLISH
X-PUBLISHED-TTL:P3D
REFRESH-INTERVAL:P3D
CALSCALE:GREGORIAN
BEGIN:VEVENT
DTSTART:20190423T223000Z
DTEND:20190424T000000Z
X-MICROSOFT-CDO-ALLDAYEVENT:FALSE
SUMMARY:Recycled Wood Block Workshop
DESCRIPTION:6:30 pm   8:00 pm Open to Adults and Children (with adult present to assist) Instructor: Kathy Nelson Create a sculpture that will be a conversation piece in your home while you make memories upcycling wood with your family. We'll provide the wood blocks and the paint for your repurposed wood sculpture.
X-ALT-DESC;FMTTYPE=text/html:6:30 pm &ndash\; 8:00 pm Open to Adults and Children (with adult present to assist) Instructor: Kathy Nelson Create a sculpture that will be a conversation piece in your home while you make memories upcycling wood with your family. We&rsquo\;ll provide the wood blocks and the paint for your repurposed wood sculpture.
LOCATION:Colquitt County Arts Center 401 7th Ave. SW
UID:e.570.9529
SEQUENCE:3
DTSTAMP:20260425T164132Z
URL:http://business.moultriechamber.com/events/details/recycled-wood-block-workshop-9529
END:VEVENT

END:VCALENDAR
