BEGIN:VCALENDAR
VERSION:2.0
PRODID:-//ChamberMaster//Event Calendar 2.0//EN
METHOD:PUBLISH
X-PUBLISHED-TTL:P3D
REFRESH-INTERVAL:P3D
CALSCALE:GREGORIAN
BEGIN:VEVENT
DTSTART:20210507T160000Z
DTEND:20210507T170000Z
X-MICROSOFT-CDO-ALLDAYEVENT:FALSE
SUMMARY:Recovery Happens
DESCRIPTION:Bring a lunch and join us on the square for a lunchtime presentation celebrating Mental Health Month and recovery! * Mental Health month proclamation by Mayor William McIntosh *RESPECT Institute speaker *NAMI "In Our Own Voice" Presentation
X-ALT-DESC;FMTTYPE=text/html:Bring a lunch and join us on the square for a lunchtime presentation celebrating Mental Health Month and recovery! * Mental Health month proclamation by Mayor William McIntosh *RESPECT Institute speaker *NAMI &quot\;In Our Own Voice&quot\; Presentation
LOCATION:Courthouse Square Amphitheater
UID:e.570.11368
SEQUENCE:3
DTSTAMP:20260424T090613Z
URL:http://business.moultriechamber.com/events/details/recovery-happens-11368
END:VEVENT

END:VCALENDAR
