BEGIN:VCALENDAR
VERSION:2.0
PRODID:-//ChamberMaster//Event Calendar 2.0//EN
METHOD:PUBLISH
X-PUBLISHED-TTL:P3D
REFRESH-INTERVAL:P3D
CALSCALE:GREGORIAN
BEGIN:VEVENT
DTSTART:20200625T140000Z
DTEND:20200828T213000Z
X-MICROSOFT-CDO-ALLDAYEVENT:FALSE
SUMMARY:Recollection Oil Painting Art Exhibit
DESCRIPTION:Recollection Mary Vanlandingham June 25th   August 28th Vereen Gallery   Oil Paintings Mary VanLandingham is a traditional painter based out of South Georgia. With the use of oil paints\, Mary specializes in creating lively and vivid imagery referencing the outside world. Her love and appreciation for the natural world is essential\, and she strives to recreate scenes that embody a sense of both comfort and bewilderment. Mary was born and raised in South Georgia\, and developed an interest for art at an early age. While pursing a Bachelor of Fine Arts from Valdosta State University\, she took an immediate liking to oil paints. She then combined her admiration for nature with her passion of oil painting\, and began expressing place and perspectives that provide peace and familiarity. She has participated in exhibitions across to the United States and enjoys showing her work in new places. Mary works part-time in her home studio located in Nashville\, Georgia. She is also a librarian at her second favorite place\, Willis L. Miller library located in Valdosta\, Georgia.
X-ALT-DESC;FMTTYPE=text/html:Recollection Mary Vanlandingham June 25th &ndash\; August 28th Vereen Gallery &ndash\; Oil Paintings Mary VanLandingham is a traditional painter based out of South Georgia. With the use of oil paints\, Mary specializes in creating lively and vivid imagery referencing the outside world. Her love and appreciation for the natural world is essential\, and she strives to recreate scenes that embody a sense of both comfort and bewilderment. Mary was born and raised in South Georgia\, and developed an interest for art at an early age. While pursing a Bachelor of Fine Arts from Valdosta State University\, she took an immediate liking to oil paints. She then combined her admiration for nature with her passion of oil painting\, and began expressing place and perspectives that provide peace and familiarity. She has participated in exhibitions across to the United States and enjoys showing her work in new places. Mary works part-time in her home studio located in Nashville\, Georgia. She is also a librarian at her second favorite place\, Willis L. Miller library located in Valdosta\, Georgia.
LOCATION:Colquitt County Arts Center 401 7th Avenue S.W. Moultrie\, GA 31768
UID:e.570.11173
SEQUENCE:3
DTSTAMP:20260424T201200Z
URL:http://business.moultriechamber.com/events/details/recollection-oil-painting-art-exhibit-11173
END:VEVENT

END:VCALENDAR
