BEGIN:VCALENDAR
VERSION:2.0
PRODID:-//ChamberMaster//Event Calendar 2.0//EN
METHOD:PUBLISH
X-PUBLISHED-TTL:P3D
REFRESH-INTERVAL:P3D
CALSCALE:GREGORIAN
BEGIN:VEVENT
DTSTART:20210708T140000Z
DTEND:20210708T160000Z
X-MICROSOFT-CDO-ALLDAYEVENT:FALSE
SUMMARY:Real Life K9
DESCRIPTION:Come see Jody show off his trained dogs
X-ALT-DESC;FMTTYPE=text/html:Come see Jody show off his trained dogs
LOCATION:Main Street Park
UID:e.570.11443
SEQUENCE:3
DTSTAMP:20260424T074353Z
URL:http://business.moultriechamber.com/events/details/real-life-k9-11443
END:VEVENT

END:VCALENDAR
