BEGIN:VCALENDAR
VERSION:2.0
PRODID:-//ChamberMaster//Event Calendar 2.0//EN
METHOD:PUBLISH
X-PUBLISHED-TTL:P3D
REFRESH-INTERVAL:P3D
CALSCALE:GREGORIAN
BEGIN:VEVENT
DTSTART:20180712T180000Z
DTEND:20180712T190000Z
X-MICROSOFT-CDO-ALLDAYEVENT:FALSE
SUMMARY:Reading Rockstars
DESCRIPTION:Songs\, rhymes\, stories\, and more for children 0   5 years
X-ALT-DESC;FMTTYPE=text/html:Songs\, rhymes\, stories\, and more for children 0 &ndash\; 5 years
LOCATION:Doerun Library\, 185 N Freeman St.\, Doerun\, GA
UID:e.570.9316
SEQUENCE:3
DTSTAMP:20260426T043338Z
URL:http://business.moultriechamber.com/events/details/reading-rockstars-07-12-2018-9316
END:VEVENT

END:VCALENDAR
