BEGIN:VCALENDAR
VERSION:2.0
PRODID:-//ChamberMaster//Event Calendar 2.0//EN
METHOD:PUBLISH
X-PUBLISHED-TTL:P3D
REFRESH-INTERVAL:P3D
CALSCALE:GREGORIAN
BEGIN:VEVENT
DTSTART:20180710T140000Z
DTEND:20180710T150000Z
X-MICROSOFT-CDO-ALLDAYEVENT:FALSE
SUMMARY:Reading Rockstars
DESCRIPTION:Songs\, rhymes\, stories\, and more for children 0   5 years.
X-ALT-DESC;FMTTYPE=text/html:Songs\, rhymes\, stories\, and more for children 0 &ndash\; 5 years.
LOCATION:Moultrie Library\, 225 S. Main St\, Moultrie (Temporary Location)
UID:e.570.9286
SEQUENCE:3
DTSTAMP:20260426T043340Z
URL:http://business.moultriechamber.com/events/details/reading-rockstars-07-10-2018-9286
END:VEVENT

END:VCALENDAR
