BEGIN:VCALENDAR
VERSION:2.0
PRODID:-//ChamberMaster//Event Calendar 2.0//EN
METHOD:PUBLISH
X-PUBLISHED-TTL:P3D
REFRESH-INTERVAL:P3D
CALSCALE:GREGORIAN
BEGIN:VEVENT
DTSTART:20180625T190000Z
DTEND:20180625T200000Z
X-MICROSOFT-CDO-ALLDAYEVENT:FALSE
SUMMARY:Random Acts
DESCRIPTION:Mystery Theater for kids with live music and lots of audience participation!
X-ALT-DESC;FMTTYPE=text/html:Mystery Theater for kids with live music and lots of audience participation!
LOCATION:Ryce Community Center\, 305 7th St.\, NW\, Moultrie
UID:e.570.9260
SEQUENCE:3
DTSTAMP:20260423T101201Z
URL:http://business.moultriechamber.com/events/details/random-acts-9260
END:VEVENT

END:VCALENDAR
