BEGIN:VCALENDAR
VERSION:2.0
PRODID:-//ChamberMaster//Event Calendar 2.0//EN
METHOD:PUBLISH
X-PUBLISHED-TTL:P3D
REFRESH-INTERVAL:P3D
CALSCALE:GREGORIAN
BEGIN:VEVENT
DTSTART:20180915T123000Z
DTEND:20180915T160000Z
X-MICROSOFT-CDO-ALLDAYEVENT:FALSE
SUMMARY:Moultrie YMCA Trail Run
DESCRIPTION:The Moultrie YMCA Doggone Trail Run will be held Saturday\, September 15th. Proceeds will benefit the Moultrie YMCA Schoalrship Fund and the Moultrie-Colquitt County Humane Society. Join us for a great race through over 30 acres of wooded property behind the Y. Run with your dog in the paw 5K! This will be a great community event for all with grilled hamburgers served by our local law enforcement\, bounce house and blowup slides for the kids\, live music and so much more! The fun starts at 9:00 when the 10K kicks off.\n\nRegister here: https://runsignup.com/Race/GA/Moultrie/DoggoneTrailRun
X-ALT-DESC;FMTTYPE=text/html:The Moultrie YMCA Doggone Trail Run will be held Saturday\, September 15th. Proceeds will benefit the Moultrie YMCA Schoalrship Fund and the Moultrie-Colquitt County Humane Society. Join us for a great race through over 30 acres of wooded property behind the Y. Run with your dog in the paw 5K! This will be a great community event for all with grilled hamburgers served by our local law enforcement\, bounce house and blowup slides for the kids\, live music and so much more! The fun starts at 9:00 when the 10K kicks off.<br>\nRegister here:&nbsp\;https://runsignup.com/Race/GA/Moultrie/DoggoneTrailRun
LOCATION:Moultrie YMCA 601 26th Ave. SE Moultrie\, GA 31768
UID:e.570.9271
SEQUENCE:3
DTSTAMP:20260426T032620Z
URL:http://business.moultriechamber.com/events/details/race-of-the-south-9271
END:VEVENT

END:VCALENDAR
