BEGIN:VCALENDAR
VERSION:2.0
PRODID:-//ChamberMaster//Event Calendar 2.0//EN
METHOD:PUBLISH
X-PUBLISHED-TTL:P3D
REFRESH-INTERVAL:P3D
CALSCALE:GREGORIAN
BEGIN:VEVENT
DTSTART:20190411T223000Z
DTEND:20190412T003000Z
X-MICROSOFT-CDO-ALLDAYEVENT:FALSE
SUMMARY:Quilter's Guild Meeting
DESCRIPTION:Meet other quilters who have an interest in the hobby\, share projects and ideas. The Quilter's Guild meets every 2nd Thursday of the month at the Arts Center. Memberships Fees are a $15 donation for one year.
X-ALT-DESC;FMTTYPE=text/html:Meet other quilters who have an interest in the hobby\, share projects and ideas. The Quilter&rsquo\;s Guild meets every 2nd Thursday of the month at the Arts Center. Memberships Fees are a $15 donation for one year.
LOCATION:Colquitt County Arts Center 401 7th Ave. SW
UID:e.570.9525
SEQUENCE:3
DTSTAMP:20260425T164139Z
URL:http://business.moultriechamber.com/events/details/quilter-s-guild-meeting-9525
END:VEVENT

END:VCALENDAR
