BEGIN:VCALENDAR
VERSION:2.0
PRODID:-//ChamberMaster//Event Calendar 2.0//EN
METHOD:PUBLISH
X-PUBLISHED-TTL:P3D
REFRESH-INTERVAL:P3D
CALSCALE:GREGORIAN
BEGIN:VEVENT
DTSTART:20240122T190000Z
DTEND:20240122T203000Z
X-MICROSOFT-CDO-ALLDAYEVENT:FALSE
SUMMARY:Quick Rise Bread Making
DESCRIPTION:QUICK RISE BREAD MAKING will be offered two times on Monday\, 22nd from 2:00-3:30 or 5:30-7:00 at the Rye Community Center. Is there anything better than the smell of fresh baked bread? The cost is only $5 per person\, and you will need to bring a bowl for mixing and to take your ready for the oven bread home with you. Space is limited and the deadline to register is January 20th.
X-ALT-DESC;FMTTYPE=text/html:QUICK RISE BREAD MAKING will be offered two times on Monday\, 22nd from 2:00-3:30 or 5:30-7:00 at the Rye Community Center. Is there anything better than the smell of fresh baked bread? The cost is only $5 per person\, and you will need to bring a bowl for mixing and to take your ready for the oven bread home with you. Space is limited and the deadline to register is January 20th.
LOCATION:Ryce Community Center
UID:e.570.13244
SEQUENCE:3
DTSTAMP:20260423T165546Z
URL:http://business.moultriechamber.com/events/details/quick-rise-bread-making-13244
END:VEVENT

END:VCALENDAR
