BEGIN:VCALENDAR
VERSION:2.0
PRODID:-//ChamberMaster//Event Calendar 2.0//EN
METHOD:PUBLISH
X-PUBLISHED-TTL:P3D
REFRESH-INTERVAL:P3D
CALSCALE:GREGORIAN
BEGIN:VEVENT
DTSTART:20190410T160000Z
DTEND:20190410T170000Z
X-MICROSOFT-CDO-ALLDAYEVENT:FALSE
SUMMARY:Quarterly Membership Luncheon: Moultrie Chamber of Commerce
DESCRIPTION:Quarterly Membership Luncheon to be held at Gin Creek from 12pm-1pm
X-ALT-DESC;FMTTYPE=text/html:Quarterly Membership Luncheon to be held at Gin Creek from 12pm-1pm
LOCATION:Gin Creek- 251 Demott Road\, Moultrie
UID:e.570.9540
SEQUENCE:3
DTSTAMP:20260425T165245Z
URL:http://business.moultriechamber.com/events/details/quarterly-membership-luncheon-moultrie-chamber-of-commerce-9540
END:VEVENT

END:VCALENDAR
