BEGIN:VCALENDAR
VERSION:2.0
PRODID:-//ChamberMaster//Event Calendar 2.0//EN
METHOD:PUBLISH
X-PUBLISHED-TTL:P3D
REFRESH-INTERVAL:P3D
CALSCALE:GREGORIAN
BEGIN:VEVENT
DTSTART:20181114T170000Z
DTEND:20181114T183000Z
X-MICROSOFT-CDO-ALLDAYEVENT:FALSE
SUMMARY:Quarterly Membership Luncheon: Moultrie Chamber of Commerce
DESCRIPTION:Join us for our Quarterly Membership Luncheon at Ashburn Hill Plantation!!
X-ALT-DESC;FMTTYPE=text/html:Join us for our Quarterly Membership Luncheon at Ashburn Hill Plantation!!
LOCATION:Ashburn Hill Plantation\, 1172 Lower Meigs Road\, Moultrie\, GA 31768
UID:e.570.9444
SEQUENCE:3
DTSTAMP:20260426T004759Z
URL:http://business.moultriechamber.com/events/details/quarterly-membership-luncheon-moultrie-chamber-of-commerce-9444
END:VEVENT

END:VCALENDAR
