BEGIN:VCALENDAR
VERSION:2.0
PRODID:-//ChamberMaster//Event Calendar 2.0//EN
METHOD:PUBLISH
X-PUBLISHED-TTL:P3D
REFRESH-INTERVAL:P3D
CALSCALE:GREGORIAN
BEGIN:VEVENT
DTSTART:20180808T160000Z
DTEND:20180808T173000Z
X-MICROSOFT-CDO-ALLDAYEVENT:FALSE
SUMMARY:Quarterly Membership Luncheon
DESCRIPTION:Our Quarterly Membership Luncheon is right around the corner. Have you reserved your seat yet? Register Now!
X-ALT-DESC;FMTTYPE=text/html:Our Quarterly Membership Luncheon is right around the corner. Have you reserved your seat yet? Register Now!
LOCATION:Colquitt County Art Center
UID:e.570.9329
SEQUENCE:3
DTSTAMP:20260426T032233Z
URL:http://business.moultriechamber.com/events/details/quarterly-membership-luncheon-9329
END:VEVENT

END:VCALENDAR
