BEGIN:VCALENDAR
VERSION:2.0
PRODID:-//ChamberMaster//Event Calendar 2.0//EN
METHOD:PUBLISH
X-PUBLISHED-TTL:P3D
REFRESH-INTERVAL:P3D
CALSCALE:GREGORIAN
BEGIN:VEVENT
DTSTART:20201024T120000Z
DTEND:20201024T140000Z
X-MICROSOFT-CDO-ALLDAYEVENT:FALSE
SUMMARY:Pumpkin Patch 5K & 1 mile Fun Run
DESCRIPTION:
X-ALT-DESC;FMTTYPE=text/html:
LOCATION:Colquitt Christian Academy
UID:e.570.11159
SEQUENCE:3
DTSTAMP:20260423T074307Z
URL:http://business.moultriechamber.com/events/details/pumpkin-patch-5k-1-mile-fun-run-11159
END:VEVENT

END:VCALENDAR
