BEGIN:VCALENDAR
VERSION:2.0
PRODID:-//ChamberMaster//Event Calendar 2.0//EN
METHOD:PUBLISH
X-PUBLISHED-TTL:P3D
REFRESH-INTERVAL:P3D
CALSCALE:GREGORIAN
BEGIN:VEVENT
DTSTART:20180925T223000Z
DTEND:20180926T000000Z
X-MICROSOFT-CDO-ALLDAYEVENT:FALSE
SUMMARY:Pumpkin Centerpieces
DESCRIPTION:Using cut wood and corks you will create two whimsical pumpkins to decorate your house for the season- or to give as a gift! We supply corks\, wood and paint- you bring your glue gun and glue sticks! Instructor Kathy Nelson
X-ALT-DESC;FMTTYPE=text/html:Using cut wood and corks you will create two whimsical pumpkins to decorate your house for the season- or to give as a gift! We supply corks\, wood and paint- you bring your glue gun and glue sticks! Instructor Kathy Nelson
LOCATION:Colquitt County Arts Center\, 401 7th Avenue S.W.\, Moultrie\, GA 31768
UID:e.570.9409
SEQUENCE:3
DTSTAMP:20260426T020436Z
URL:http://business.moultriechamber.com/events/details/pumpkin-centerpieces-9409
END:VEVENT

END:VCALENDAR
