BEGIN:VCALENDAR
VERSION:2.0
PRODID:-//ChamberMaster//Event Calendar 2.0//EN
METHOD:PUBLISH
X-PUBLISHED-TTL:P3D
REFRESH-INTERVAL:P3D
CALSCALE:GREGORIAN
BEGIN:VEVENT
DTSTART:20220318T143000Z
DTEND:20220318T153000Z
X-MICROSOFT-CDO-ALLDAYEVENT:FALSE
SUMMARY:Preschool STARS (Sing Talk and Read for Success)
DESCRIPTION:Get your preschooler ready for Pre-K or Kindergarten\, meet new friends\, and have fun together all at the same time! Stories\, songs\, and more for children ages 3 and up. Each week has a different theme and will include a craft or activity to go along with the theme.
X-ALT-DESC;FMTTYPE=text/html:Get your preschooler ready for Pre-K or Kindergarten\, meet new friends\, and have fun together all at the same time! Stories\, songs\, and more for children ages 3 and up. Each week has a different theme and will include a craft or activity to go along with the theme.
LOCATION:Moultrie-Colquitt Library System 504 5th Street\, SE Moultrie\, Ga.
UID:e.570.11984
SEQUENCE:3
DTSTAMP:20260423T205638Z
URL:http://business.moultriechamber.com/events/details/preschool-stars-sing-talk-and-read-for-success-03-18-2022-11984
END:VEVENT

END:VCALENDAR
