BEGIN:VCALENDAR
VERSION:2.0
PRODID:-//ChamberMaster//Event Calendar 2.0//EN
METHOD:PUBLISH
X-PUBLISHED-TTL:P3D
REFRESH-INTERVAL:P3D
CALSCALE:GREGORIAN
BEGIN:VEVENT
DTSTART:20220204T153000Z
DTEND:20220204T163000Z
X-MICROSOFT-CDO-ALLDAYEVENT:FALSE
SUMMARY:Preschool STARS (Sing Talk and Read for Success)
DESCRIPTION:Get your preschooler ready for Pre-K or Kindergarten\, meet new friends\, and have fun together all at the same time! Stories\, songs\, and more for children ages 3 and up. Each week has a different theme and will include a craft or activity to go along with the theme.
X-ALT-DESC;FMTTYPE=text/html:Get your preschooler ready for Pre-K or Kindergarten\, meet new friends\, and have fun together all at the same time! Stories\, songs\, and more for children ages 3 and up. Each week has a different theme and will include a craft or activity to go along with the theme.
LOCATION:Moultrie-Colquitt County Library 229-985-6540 Mrs. Erin Honeycutt
UID:e.570.11978
SEQUENCE:3
DTSTAMP:20260423T215915Z
URL:http://business.moultriechamber.com/events/details/preschool-stars-sing-talk-and-read-for-success-02-04-2022-11978
END:VEVENT

END:VCALENDAR
