BEGIN:VCALENDAR
VERSION:2.0
PRODID:-//ChamberMaster//Event Calendar 2.0//EN
METHOD:PUBLISH
X-PUBLISHED-TTL:P3D
REFRESH-INTERVAL:P3D
CALSCALE:GREGORIAN
BEGIN:VEVENT
DTSTART:20220624T143000Z
DTEND:20220624T153000Z
X-MICROSOFT-CDO-ALLDAYEVENT:FALSE
SUMMARY:Preschool STAR(fish) Storytime
DESCRIPTION:Preschool STAR(fish) Storytime Stories\, songs\, and activities for children ages 2-5 years.
X-ALT-DESC;FMTTYPE=text/html:Preschool STAR(fish) Storytime&mdash\;Stories\, songs\, and activities for children ages 2-5 years.
LOCATION:Moultrie-Colquitt Library System 504 5th Street\, SE Moultrie\, Ga.
UID:e.570.12915
SEQUENCE:3
DTSTAMP:20260423T170725Z
URL:http://business.moultriechamber.com/events/details/preschool-star-fish-storytime-06-24-2022-12915
END:VEVENT

END:VCALENDAR
