BEGIN:VCALENDAR
VERSION:2.0
PRODID:-//ChamberMaster//Event Calendar 2.0//EN
METHOD:PUBLISH
X-PUBLISHED-TTL:P3D
REFRESH-INTERVAL:P3D
CALSCALE:GREGORIAN
BEGIN:VEVENT
DTSTART:20180921T150000Z
DTEND:20180921T160000Z
X-MICROSOFT-CDO-ALLDAYEVENT:FALSE
SUMMARY:Preschool Pandas Storytime
DESCRIPTION:Bring your own picnic lunch and join us for stories and more at the Main Street Park. for childern ages 2 - 5 years.
X-ALT-DESC;FMTTYPE=text/html:Bring your own picnic lunch and join us for stories and more at the Main Street Park. for childern ages 2 - 5 years.
LOCATION:Main Street Park\, 1220 S Main St\, Moultrie\, GA
UID:e.570.9399
SEQUENCE:3
DTSTAMP:20260426T021215Z
URL:http://business.moultriechamber.com/events/details/preschool-pandas-storytime-9399
END:VEVENT

END:VCALENDAR
