BEGIN:VCALENDAR
VERSION:2.0
PRODID:-//ChamberMaster//Event Calendar 2.0//EN
METHOD:PUBLISH
X-PUBLISHED-TTL:P3D
REFRESH-INTERVAL:P3D
CALSCALE:GREGORIAN
BEGIN:VEVENT
DTSTART:20180824T150000Z
DTEND:20180824T160000Z
X-MICROSOFT-CDO-ALLDAYEVENT:FALSE
SUMMARY:Preschool Pandas at Main Street Park
DESCRIPTION:Bring your own picnic lunch and join us for stories and more at Main Street Park. For Children ages 2 - 5 years. *Storytime in the Park programs are sponsored by the United Way of Colquitt County in partnership with the Moultrie-Colquitt County Parks and Recreation Authority.
X-ALT-DESC;FMTTYPE=text/html:Bring your own picnic lunch and join us for stories and more at Main Street Park. For Children ages 2 - 5 years. *Storytime in the Park programs are sponsored by the United Way of Colquitt County in partnership with the Moultrie-Colquitt County Parks and Recreation Authority.
LOCATION:Main Street Park\, 1220 S Main St\, Moultrie
UID:e.570.9376
SEQUENCE:3
DTSTAMP:20260426T032717Z
URL:http://business.moultriechamber.com/events/details/preschool-pandas-at-main-street-park-08-24-2018-9376
END:VEVENT

END:VCALENDAR
