BEGIN:VCALENDAR
VERSION:2.0
PRODID:-//ChamberMaster//Event Calendar 2.0//EN
METHOD:PUBLISH
X-PUBLISHED-TTL:P3D
REFRESH-INTERVAL:P3D
CALSCALE:GREGORIAN
BEGIN:VEVENT
DTSTART:20240703T143000Z
DTEND:20240703T160000Z
X-MICROSOFT-CDO-ALLDAYEVENT:FALSE
SUMMARY:Popcorn & Movies @ the Library
DESCRIPTION:Enjoy family movies on the big screen with hot\, delicious popcorn. July 3: Kung Fu Panda 4 (94 min/ PG)
X-ALT-DESC;FMTTYPE=text/html:Enjoy family movies on the big screen with hot\, delicious popcorn. July 3: Kung Fu Panda 4 (94 min/ PG)
LOCATION:Moultrie - Colquitt County Library 204 5th St\, SE\, Moultire\, GA
UID:e.570.13278
SEQUENCE:3
DTSTAMP:20260422T102956Z
URL:http://business.moultriechamber.com/events/details/popcorn-movies-the-library-13278
END:VEVENT

END:VCALENDAR
