BEGIN:VCALENDAR
VERSION:2.0
PRODID:-//ChamberMaster//Event Calendar 2.0//EN
METHOD:PUBLISH
X-PUBLISHED-TTL:P3D
REFRESH-INTERVAL:P3D
CALSCALE:GREGORIAN
BEGIN:VEVENT
DTSTART:20210601T143000Z
DTEND:20210601T153000Z
X-MICROSOFT-CDO-ALLDAYEVENT:FALSE
SUMMARY:Polynesian Dance with Dawn Mahealani Douglas
DESCRIPTION:Polynesian Dance with Dawn Mahealani Douglas will share traditional costumes\, musical instruments\, and dances from the Pacific Islands.
X-ALT-DESC;FMTTYPE=text/html:Polynesian Dance with Dawn Mahealani Douglas will share traditional costumes\, musical instruments\, and dances from the Pacific Islands.
LOCATION:Bert Harsh Park next door to the Moultrie Library @ 204 5th St SE\, Moultrie\, GA 31768.
UID:e.570.11383
SEQUENCE:3
DTSTAMP:20260424T075856Z
URL:http://business.moultriechamber.com/events/details/polynesian-dance-with-dawn-mahealani-douglas-11383
END:VEVENT

END:VCALENDAR
