BEGIN:VCALENDAR
VERSION:2.0
PRODID:-//ChamberMaster//Event Calendar 2.0//EN
METHOD:PUBLISH
X-PUBLISHED-TTL:P3D
REFRESH-INTERVAL:P3D
CALSCALE:GREGORIAN
BEGIN:VEVENT
DTSTART:20210603T220000Z
DTEND:20210603T230000Z
X-MICROSOFT-CDO-ALLDAYEVENT:FALSE
SUMMARY:Polynesian Dance with Dawn Mahealani
DESCRIPTION:Come learn to Dance with Dawn Mahealani.
X-ALT-DESC;FMTTYPE=text/html:Come learn to Dance with Dawn Mahealani.
LOCATION:Main Street Park
UID:e.570.11432
SEQUENCE:3
DTSTAMP:20260424T081015Z
URL:http://business.moultriechamber.com/events/details/polynesian-dance-with-dawn-mahealani-11432
END:VEVENT

END:VCALENDAR
