BEGIN:VCALENDAR
VERSION:2.0
PRODID:-//ChamberMaster//Event Calendar 2.0//EN
METHOD:PUBLISH
X-PUBLISHED-TTL:P3D
REFRESH-INTERVAL:P3D
CALSCALE:GREGORIAN
BEGIN:VEVENT
DTSTART:20181206T210000Z
DTEND:20181206T220000Z
X-MICROSOFT-CDO-ALLDAYEVENT:FALSE
SUMMARY:Polynesian Dance with Dawn Douglas`
DESCRIPTION:Dawn Mahealani Douglas will show us how to hula! She will share traditional costumes\, musical instruments\, and dances from the Pacific Islands. Free and open to the public\, no registration required. This event is sponsored by the Moultrie-Colquitt County Library System and the United Way of Colquitt County\, in partnership with the Moultrie-Colquitt County Parks and Recreation Authority.
X-ALT-DESC;FMTTYPE=text/html:Dawn Mahealani Douglas will show us how to hula! She will share traditional costumes\, musical instruments\, and dances from the Pacific Islands. Free and open to the public\, no registration required. This event is sponsored by the Moultrie-Colquitt County Library System and the United Way of Colquitt County\, in partnership with the Moultrie-Colquitt County Parks and Recreation Authority.
LOCATION:Ryce Community Center
UID:e.570.9465
SEQUENCE:3
DTSTAMP:20260425T215947Z
URL:http://business.moultriechamber.com/events/details/polynesian-dance-with-dawn-douglas-12-06-2018-9465
END:VEVENT

END:VCALENDAR
