BEGIN:VCALENDAR
VERSION:2.0
PRODID:-//ChamberMaster//Event Calendar 2.0//EN
METHOD:PUBLISH
X-PUBLISHED-TTL:P3D
REFRESH-INTERVAL:P3D
CALSCALE:GREGORIAN
BEGIN:VEVENT
DTSTART:20210328T190000Z
DTEND:20210328T220000Z
X-MICROSOFT-CDO-ALLDAYEVENT:FALSE
SUMMARY:Pitch\, Hit\, & Run
DESCRIPTION:Pitch Hit & Run  is the official skills competition of Major League Baseball . This grassroots program is designed to provide youngsters with an opportunity to compete\, free of charge\, in a competition that recognizes individual excellence in core baseball/softball skills. Boys and girls are divided into four age divisions: 7/8\, 9/10\, 11/12\, 13/14\, and have the chance to advance through three levels of competition\, including Team Championships and the Finals during MLB  All-Star Week . All participants should register online at PitchHitRun.com and plan to bring age verification (copy/picture of birth certificate or similar) to the competition. For questions concerning the competition\, please contact your Local Coordinator.
X-ALT-DESC;FMTTYPE=text/html:Pitch Hit &amp\; Run&trade\; is the official skills competition of Major League Baseball&reg\;. This grassroots program is designed to provide youngsters with an opportunity to compete\, free of charge\, in a competition that recognizes individual excellence in core baseball/softball skills. Boys and girls are divided into four age divisions: 7/8\, 9/10\, 11/12\, 13/14\, and have the chance to advance through three levels of competition\, including Team Championships and the Finals during MLB&reg\; All-Star Week&trade\;. All participants should register online at PitchHitRun.com and plan to bring age verification (copy/picture of birth certificate or similar) to the competition. For questions concerning the competition\, please contact your Local Coordinator.
LOCATION:Knuck McCrary Complex
UID:e.570.11307
SEQUENCE:3
DTSTAMP:20260424T115618Z
URL:http://business.moultriechamber.com/events/details/pitch-hit-run-11307
END:VEVENT

END:VCALENDAR
