BEGIN:VCALENDAR
VERSION:2.0
PRODID:-//ChamberMaster//Event Calendar 2.0//EN
METHOD:PUBLISH
X-PUBLISHED-TTL:P3D
REFRESH-INTERVAL:P3D
CALSCALE:GREGORIAN
BEGIN:VEVENT
DTSTART:20220315T220000Z
DTEND:20220316T010000Z
X-MICROSOFT-CDO-ALLDAYEVENT:FALSE
SUMMARY:Pitch Hit & Run
DESCRIPTION:Baseball and Softball Competition Ages 7-14 Register Online
X-ALT-DESC;FMTTYPE=text/html:Baseball and Softball Competition Ages 7-14 Register Online
LOCATION:McGregor Athletic Complex
UID:e.570.12019
SEQUENCE:3
DTSTAMP:20260423T205156Z
URL:http://business.moultriechamber.com/events/details/pitch-hit-run-03-15-2022-12019
END:VEVENT

END:VCALENDAR
