BEGIN:VCALENDAR
VERSION:2.0
PRODID:-//ChamberMaster//Event Calendar 2.0//EN
METHOD:PUBLISH
X-PUBLISHED-TTL:P3D
REFRESH-INTERVAL:P3D
CALSCALE:GREGORIAN
BEGIN:VEVENT
DTSTART:20210213T150000Z
DTEND:20210213T210000Z
X-MICROSOFT-CDO-ALLDAYEVENT:FALSE
SUMMARY:Pickles For Paws Pickleball Tournament
DESCRIPTION:This pickleball tournament will raise funds for the Moultrie Colquitt County Humane Society to be used for facility improvements. Doubles format with coed intermediate and advanced divisions. Tournament will begin at 10:00 AM with start times set after registration is completed.
X-ALT-DESC;FMTTYPE=text/html:This pickleball tournament will raise funds for the Moultrie Colquitt County Humane Society to be used for facility improvements. Doubles format with coed intermediate and advanced divisions. Tournament will begin at 10:00 AM with start times set after registration is completed.
LOCATION:YMCA Main Campus\, overflow will utilize Pineland Campus
UID:e.570.11308
SEQUENCE:3
DTSTAMP:20260424T124609Z
URL:http://business.moultriechamber.com/events/details/pickles-for-paws-pickleball-tournament-11308
END:VEVENT

END:VCALENDAR
