BEGIN:VCALENDAR
VERSION:2.0
PRODID:-//ChamberMaster//Event Calendar 2.0//EN
METHOD:PUBLISH
X-PUBLISHED-TTL:P3D
REFRESH-INTERVAL:P3D
CALSCALE:GREGORIAN
BEGIN:VEVENT
DTSTART:20210914T210000Z
DTEND:20210914T230000Z
X-MICROSOFT-CDO-ALLDAYEVENT:FALSE
SUMMARY:Pickleball Courts Grand Opening at the YMCA
DESCRIPTION:Pickleball Courts Grand Opening will be September 14th at 5pm. There will be a vendor from Tallahassee there to sell pickleball paddles!
X-ALT-DESC;FMTTYPE=text/html:Pickleball Courts Grand Opening will be September 14th at 5pm. There will be a vendor from Tallahassee there to sell pickleball paddles!
LOCATION:601 26th Ave SE Moultrie\, GA 31768
UID:e.570.11942
SEQUENCE:3
DTSTAMP:20260424T043007Z
URL:http://business.moultriechamber.com/events/details/pickleball-courts-grand-opening-at-the-ymca-11942
END:VEVENT

END:VCALENDAR
