BEGIN:VCALENDAR
VERSION:2.0
PRODID:-//ChamberMaster//Event Calendar 2.0//EN
METHOD:PUBLISH
X-PUBLISHED-TTL:P3D
REFRESH-INTERVAL:P3D
CALSCALE:GREGORIAN
BEGIN:VEVENT
DTSTART:20201109T230000Z
DTEND:20201110T010000Z
X-MICROSOFT-CDO-ALLDAYEVENT:FALSE
SUMMARY:Pickleball Clinic
DESCRIPTION:Come join us in learning the fastest growing game in the country! Pre-Registration is required.
X-ALT-DESC;FMTTYPE=text/html:Come join us in learning the fastest growing game in the country! Pre-Registration is required.
LOCATION:Lynda Baxter Moseley Tennis Courts
UID:e.570.11237
SEQUENCE:3
DTSTAMP:20260424T174626Z
URL:http://business.moultriechamber.com/events/details/pickleball-clinic-11237
END:VEVENT

END:VCALENDAR
