BEGIN:VCALENDAR
VERSION:2.0
PRODID:-//ChamberMaster//Event Calendar 2.0//EN
METHOD:PUBLISH
X-PUBLISHED-TTL:P3D
REFRESH-INTERVAL:P3D
CALSCALE:GREGORIAN
BEGIN:VEVENT
DTSTART:20201203T233000Z
DTEND:20201204T013000Z
X-MICROSOFT-CDO-ALLDAYEVENT:FALSE
SUMMARY:Pick- N-Paint Party
DESCRIPTION:Get creative at your upcoming holiday event with our Ornament Painting Party! We'll take care of everything as you create a unique work of art perfect for the holiday season. We have tons of ornaments to choose from and even a few door hangers! Pre-Registration is required. No on site registration. visit mccpra.com or call 229-668-0028 to register
X-ALT-DESC;FMTTYPE=text/html:Get creative at your upcoming holiday event with our Ornament Painting Party! We&rsquo\;ll take care of everything as you create a unique work of art perfect for the holiday season. We have tons of ornaments to choose from and even a few door hangers! Pre-Registration is required. No on site registration. visit mccpra.com or call 229-668-0028 to register
LOCATION:Ryce Community Center 305 7th ST NW Moultrie\, Ga 31768
UID:e.570.11251
SEQUENCE:3
DTSTAMP:20260424T163101Z
URL:http://business.moultriechamber.com/events/details/pick-n-paint-party-11251
END:VEVENT

END:VCALENDAR
