BEGIN:VCALENDAR
VERSION:2.0
PRODID:-//ChamberMaster//Event Calendar 2.0//EN
METHOD:PUBLISH
X-PUBLISHED-TTL:P3D
REFRESH-INTERVAL:P3D
CALSCALE:GREGORIAN
BEGIN:VEVENT
DTSTART:20201110T153000Z
DTEND:20201110T173000Z
X-MICROSOFT-CDO-ALLDAYEVENT:FALSE
SUMMARY:Pick and Paint the Holidays
DESCRIPTION:November 10th\, 17th or December 3rd Choose your session: 10:30 am - 12:30 pm or 2:00 pm - 4:00 pm All Ages Welcome Pick up your pieces November 20th\, 23rd or December 8th - 18th You will make your choice of 2 Christmas Tree Votive Holders\, 2 Ornaments or 2 Santa Mugs
X-ALT-DESC;FMTTYPE=text/html:November 10th\, 17th or December 3rd Choose your session: 10:30 am - 12:30 pm or 2:00 pm - 4:00 pm All Ages Welcome Pick up your pieces November 20th\, 23rd or December 8th - 18th You will make your choice of 2 Christmas Tree Votive Holders\, 2 Ornaments or 2 Santa Mugs
LOCATION:Colquitt County Arts Center 401 7th Avenue S.W. Moultrie\, GA 31768
UID:e.570.11214
SEQUENCE:3
DTSTAMP:20260424T163907Z
URL:http://business.moultriechamber.com/events/details/pick-and-paint-the-holidays-11-10-2020-11214
END:VEVENT

END:VCALENDAR
