BEGIN:VCALENDAR
VERSION:2.0
PRODID:-//ChamberMaster//Event Calendar 2.0//EN
METHOD:PUBLISH
X-PUBLISHED-TTL:P3D
REFRESH-INTERVAL:P3D
CALSCALE:GREGORIAN
BEGIN:VEVENT
DTSTART:20181214T210000Z
DTEND:20181214T220000Z
X-MICROSOFT-CDO-ALLDAYEVENT:FALSE
SUMMARY:Piccadilly Puppets present ’Twas the Night Before Christmas
DESCRIPTION:In this special event\, the Piccadilly Puppets give the classic poem by Clement C. Moore a fun new twist by telling it through the eyes of a mouse who witnessed the whole thing. This event is sponsored by the Moultrie-Colquitt County Library System and the United Way of Colquitt County\, in partnership with the Moultrie-Colquitt County Parks and Recreation Authority.
X-ALT-DESC;FMTTYPE=text/html:In this special event\, the Piccadilly Puppets give the classic poem by Clement C. Moore a fun new twist by telling it through the eyes of a mouse who witnessed the whole thing. This event is sponsored by the Moultrie-Colquitt County Library System and the United Way of Colquitt County\, in partnership with the Moultrie-Colquitt County Parks and Recreation Authority.
LOCATION:Ryce Community Center
UID:e.570.9471
SEQUENCE:3
DTSTAMP:20260425T220223Z
URL:http://business.moultriechamber.com/events/details/piccadilly-puppets-present-twas-the-night-before-christmas-12-14-2018-9471
END:VEVENT

END:VCALENDAR
