BEGIN:VCALENDAR
VERSION:2.0
PRODID:-//ChamberMaster//Event Calendar 2.0//EN
METHOD:PUBLISH
X-PUBLISHED-TTL:P3D
REFRESH-INTERVAL:P3D
CALSCALE:GREGORIAN
BEGIN:VEVENT
DTSTART:20210616T140000Z
DTEND:20210616T150000Z
X-MICROSOFT-CDO-ALLDAYEVENT:FALSE
SUMMARY:Piccadilly Puppets
DESCRIPTION:Cat and Mouse Tales will have kids "squeak"ing with delight as they watch several folktales featuring these furry friends and "purr" along with some early rock tunes. Will the cat ever catch the mouse\, or can these natural enemies ever be friends? Stories include "The Lion and the Mouse" (Aesop)\, "Why Siamese Cats Have a Kink in their Tales" (Thailand)\, and "Why Cats Chase Mice"
X-ALT-DESC;FMTTYPE=text/html:Cat and Mouse Tales will have kids &ldquo\;squeak&rdquo\;ing with delight as they watch several folktales featuring these furry friends and &ldquo\;purr&rdquo\; along with some early rock tunes. Will the cat ever catch the mouse\, or can these natural enemies ever be friends? Stories include &ldquo\;The Lion and the Mouse&rdquo\; (Aesop)\, &ldquo\;Why Siamese Cats Have a Kink in their Tales&rdquo\; (Thailand)\, and &ldquo\;Why Cats Chase Mice&rdquo\;
LOCATION:Main Street Park
UID:e.570.11436
SEQUENCE:3
DTSTAMP:20260424T075937Z
URL:http://business.moultriechamber.com/events/details/piccadilly-puppets-06-16-2021-11436
END:VEVENT

END:VCALENDAR
