BEGIN:VCALENDAR
VERSION:2.0
PRODID:-//ChamberMaster//Event Calendar 2.0//EN
METHOD:PUBLISH
X-PUBLISHED-TTL:P3D
REFRESH-INTERVAL:P3D
CALSCALE:GREGORIAN
BEGIN:VEVENT
DTSTART:20180728T220000Z
DTEND:20180729T030000Z
X-MICROSOFT-CDO-ALLDAYEVENT:FALSE
SUMMARY:Pianos in Paradise
DESCRIPTION:
X-ALT-DESC;FMTTYPE=text/html:
LOCATION:Southern Regional Technical College Conference Center.
UID:e.570.9273
SEQUENCE:3
DTSTAMP:20260426T042849Z
URL:http://business.moultriechamber.com/events/details/pianos-in-paradise-9273
END:VEVENT

END:VCALENDAR
