BEGIN:VCALENDAR
VERSION:2.0
PRODID:-//ChamberMaster//Event Calendar 2.0//EN
METHOD:PUBLISH
X-PUBLISHED-TTL:P3D
REFRESH-INTERVAL:P3D
CALSCALE:GREGORIAN
BEGIN:VEVENT
DTSTART:20180818T150000Z
DTEND:20180818T170000Z
X-MICROSOFT-CDO-ALLDAYEVENT:FALSE
SUMMARY:Pete's Groovy Back to School Bash at Main Street Park
DESCRIPTION:Groove you way back to school with music and stories from Jennifer Daniels\, plus sno cones and face painting! For all ages. *Storytime in the Park programs are sponsored by the United Way of Colquitt County in partnership with the Moultrie-Colquitt County Parks and Recreation Authority.
X-ALT-DESC;FMTTYPE=text/html:Groove you way back to school with music and stories from Jennifer Daniels\, plus sno cones and face painting! For all ages. *Storytime in the Park programs are sponsored by the United Way of Colquitt County in partnership with the Moultrie-Colquitt County Parks and Recreation Authority.
LOCATION:Main Street Park\, 1220 S Main St\, Moultrie
UID:e.570.9373
SEQUENCE:3
DTSTAMP:20260426T032431Z
URL:http://business.moultriechamber.com/events/details/pete-s-groovy-back-to-school-bash-at-main-street-park-9373
END:VEVENT

END:VCALENDAR
