BEGIN:VCALENDAR
VERSION:2.0
PRODID:-//ChamberMaster//Event Calendar 2.0//EN
METHOD:PUBLISH
X-PUBLISHED-TTL:P3D
REFRESH-INTERVAL:P3D
CALSCALE:GREGORIAN
BEGIN:VEVENT
DTSTART:20181208T160000Z
DTEND:20181208T190000Z
X-MICROSOFT-CDO-ALLDAYEVENT:FALSE
SUMMARY:Penfield Christian Home Argentina Clays Shoot
DESCRIPTION:Argentina Clays Shoot for the Penfield Christian Home. 1 Round of Skeet (25 shots) BBQ Lunch\, Auction Items and opportunity to shoot 4 suppressed weapons in binary mode (CZ Scorpion 9mm\, AR15 556\, Ruger Integral 10/22 22lr\, Sig P226 Legion 9mm) on the rifle range. Opportunity to shoot a flamethrower for a $50 Donation.
X-ALT-DESC;FMTTYPE=text/html:Argentina Clays Shoot for the Penfield Christian Home. 1 Round of Skeet (25 shots) BBQ Lunch\, Auction Items and opportunity to shoot 4 suppressed weapons in binary mode (CZ Scorpion 9mm\, AR15 556\, Ruger Integral 10/22 22lr\, Sig P226 Legion 9mm) on the rifle range. Opportunity to shoot a flamethrower for a $50 Donation.
LOCATION:Foxwood Farms 518 Rosencrantz Rd\, Moultrie GA 31788
UID:e.570.9460
SEQUENCE:3
DTSTAMP:20260425T220421Z
URL:http://business.moultriechamber.com/events/details/penfield-christian-home-argentina-clays-shoot-9460
END:VEVENT

END:VCALENDAR
