BEGIN:VCALENDAR
VERSION:2.0
PRODID:-//ChamberMaster//Event Calendar 2.0//EN
METHOD:PUBLISH
X-PUBLISHED-TTL:P3D
REFRESH-INTERVAL:P3D
CALSCALE:GREGORIAN
BEGIN:VEVENT
DTSTART:20190914T120000Z
DTEND:20190914T180000Z
X-MICROSOFT-CDO-ALLDAYEVENT:FALSE
SUMMARY:Peacock Center Car & Truck Show
DESCRIPTION:PEACOCK CENTER CAR AND TRUCK SHOW AWARDS 59 Best of Show & 15 Overall Best of Show awards Plus a Club Participation award. Download Peacock Center Show Flyer Here REGISTRATION Entry Fee: $20 Pre-registered $25 day of show concessions & vendors on site
X-ALT-DESC;FMTTYPE=text/html:PEACOCK CENTER CAR AND TRUCK SHOW AWARDS 59 Best of Show &amp\; 15 Overall Best of Show awards Plus a Club Participation award. Download Peacock Center Show Flyer Here REGISTRATION Entry Fee: $20 Pre-registered $25 day of show concessions &amp\; vendors on site
LOCATION:2061 WEST McDONALD STREET\, PAVO\, GA 31778
UID:e.570.9585
SEQUENCE:3
DTSTAMP:20260425T115747Z
URL:http://business.moultriechamber.com/events/details/peacock-center-car-truck-show-9585
END:VEVENT

END:VCALENDAR
