BEGIN:VCALENDAR
VERSION:2.0
PRODID:-//ChamberMaster//Event Calendar 2.0//EN
METHOD:PUBLISH
X-PUBLISHED-TTL:P3D
REFRESH-INTERVAL:P3D
CALSCALE:GREGORIAN
BEGIN:VEVENT
DTSTART:20240907T120000Z
DTEND:20240907T180000Z
X-MICROSOFT-CDO-ALLDAYEVENT:FALSE
SUMMARY:Peacock Center Car & Truck Show
DESCRIPTION:Car & Truck Show - Family Friendly Variety of vendors for shopping Kid Zone DJ Food & Sweets 80s Theme costume & booth contest
X-ALT-DESC;FMTTYPE=text/html:Car &amp\; Truck Show - Family Friendly Variety of vendors for shopping Kid Zone DJ Food &amp\; Sweets 80s Theme costume &amp\; booth contest
LOCATION:2061 W McDonald St\, Pavo\, GA 31778
UID:e.570.13290
SEQUENCE:3
DTSTAMP:20260422T103637Z
URL:http://business.moultriechamber.com/events/details/peacock-center-car-truck-show-09-07-2024-13290
END:VEVENT

END:VCALENDAR
