BEGIN:VCALENDAR
VERSION:2.0
PRODID:-//ChamberMaster//Event Calendar 2.0//EN
METHOD:PUBLISH
X-PUBLISHED-TTL:P3D
REFRESH-INTERVAL:P3D
CALSCALE:GREGORIAN
BEGIN:VEVENT
DTSTART:20210508T130000Z
DTEND:20210508T190000Z
X-MICROSOFT-CDO-ALLDAYEVENT:FALSE
SUMMARY:Pavo Peacock Day Festival
DESCRIPTION:Family fun for all - parade\, vendors\, food\, arts and crafts\, kid zone\, etc.
X-ALT-DESC;FMTTYPE=text/html:Family fun for all - parade\, vendors\, food\, arts and crafts\, kid zone\, etc.
LOCATION:2061 W McDonald St Pavo\, GA 31778
UID:e.570.11370
SEQUENCE:3
DTSTAMP:20260424T091134Z
URL:http://business.moultriechamber.com/events/details/pavo-peacock-day-festival-11370
END:VEVENT

END:VCALENDAR
