BEGIN:VCALENDAR
VERSION:2.0
PRODID:-//ChamberMaster//Event Calendar 2.0//EN
METHOD:PUBLISH
X-PUBLISHED-TTL:P3D
REFRESH-INTERVAL:P3D
CALSCALE:GREGORIAN
BEGIN:VEVENT
DTSTART:20190511T130000Z
DTEND:20190511T190000Z
X-MICROSOFT-CDO-ALLDAYEVENT:FALSE
SUMMARY:Pavo Peacock Day
DESCRIPTION:Music\, food\, rides\, games\, entertainment\, raffles\, drawings\, quilt display. Family fun for all ages!
X-ALT-DESC;FMTTYPE=text/html:Music\, food\, rides\, games\, entertainment\, raffles\, drawings\, quilt display. Family fun for all ages!
LOCATION:2061 W McDonald St Pavo\, GA 31778
UID:e.570.9547
SEQUENCE:3
DTSTAMP:20260425T164225Z
URL:http://business.moultriechamber.com/events/details/pavo-peacock-day-05-11-2019-9547
END:VEVENT

END:VCALENDAR
